BEGIN:VCALENDAR
VERSION:2.0
PRODID:-//wp-events-plugin.com//7.1//EN
BEGIN:VEVENT
UID:1@manuphealth.org
DTSTART;TZID=America/Chicago:20211024T150000
DTEND;TZID=America/Chicago:20211024T150000
DTSTAMP:20211024T195743Z
URL:https://manuphealth.org/events/demystifying-domestic-violence-moving-f
 rom-bystander-to-upstander/
SUMMARY:Demystifying Domestic Violence: Moving From Bystander to Upstander
DESCRIPTION:\nIf you saw your best friend's husband hit her\, right in fron
 t of you...WOULD YOU SAY ANYTHING??? If you heard yelling and screaming fr
 om a neighbors house\, and then heard sounds of items being thrown\, slaps
 \, etc. What would you do or say??\n\n\nPlease\, Join us for another inter
 active and informational session and to discuss scenarios like these and h
 ear what your options are as outsiders to help a family member\, friend\, 
 or stranger in uncomfortable situations\, such as these.\n\n\nWe are excit
 ed about the energy and passion Shan Foster will be bringing to our discus
 sion on Domestic Violence. If you have any questions in mind now...please 
 leave them in the comments section below.\n\n\nSunday\, October 24th at 3:
 00pm CST on Facebook Live\n
ATTACH;FMTTYPE=image/jpeg:https://manuphealth.org/wp-content/uploads/2021/
 10/248384281_1022401288336277_6194590228701778763_n.jpg
END:VEVENT
BEGIN:VEVENT
UID:2@manuphealth.org
DTSTART;TZID=America/Chicago:20250927T110000
DTEND;TZID=America/Chicago:20250927T140000
DTSTAMP:20250824T053644Z
URL:https://manuphealth.org/events/empowering-men-transforming-health/
SUMMARY:Empowering Men Transforming Health
DESCRIPTION:
ATTACH;FMTTYPE=image/jpeg:https://manuphealth.org/wp-content/uploads/2025/
 08/MAN-UP-MENS-HEALTH-FLYER-2025-.png
LOCATION:16th Street Baptist Church\, 1530 6th Avenue North\, Birmingham\, 
 Alabama\, 35203\, United States
X-APPLE-STRUCTURED-LOCATION;VALUE=URI;X-ADDRESS=1530 6th Avenue North\, Bir
 mingham\, Alabama\, 35203\, United States;X-APPLE-RADIUS=100;X-TITLE=16th 
 Street Baptist Church:geo:0,0
END:VEVENT
BEGIN:VTIMEZONE
TZID:America/Chicago
X-LIC-LOCATION:America/Chicago
BEGIN:DAYLIGHT
DTSTART:20210314T030000
TZOFFSETFROM:-0600
TZOFFSETTO:-0500
TZNAME:CDT
END:DAYLIGHT
BEGIN:STANDARD
DTSTART:20211107T010000
TZOFFSETFROM:-0500
TZOFFSETTO:-0600
TZNAME:CST
END:STANDARD
BEGIN:DAYLIGHT
DTSTART:20220313T030000
TZOFFSETFROM:-0600
TZOFFSETTO:-0500
TZNAME:CDT
END:DAYLIGHT
BEGIN:STANDARD
DTSTART:20221106T010000
TZOFFSETFROM:-0500
TZOFFSETTO:-0600
TZNAME:CST
END:STANDARD
BEGIN:DAYLIGHT
DTSTART:20230312T030000
TZOFFSETFROM:-0600
TZOFFSETTO:-0500
TZNAME:CDT
END:DAYLIGHT
BEGIN:STANDARD
DTSTART:20231105T010000
TZOFFSETFROM:-0500
TZOFFSETTO:-0600
TZNAME:CST
END:STANDARD
BEGIN:DAYLIGHT
DTSTART:20240310T030000
TZOFFSETFROM:-0600
TZOFFSETTO:-0500
TZNAME:CDT
END:DAYLIGHT
BEGIN:STANDARD
DTSTART:20241103T010000
TZOFFSETFROM:-0500
TZOFFSETTO:-0600
TZNAME:CST
END:STANDARD
BEGIN:DAYLIGHT
DTSTART:20250309T030000
TZOFFSETFROM:-0600
TZOFFSETTO:-0500
TZNAME:CDT
END:DAYLIGHT
END:VTIMEZONE
END:VCALENDAR